BEGIN:VCALENDAR
VERSION:2.0
PRODID:-//Sabre//Sabre VObject 4.5.8//EN
CALSCALE:GREGORIAN
BEGIN:VEVENT
UID:sabre-vobject-e5dd818e-cea2-4764-8d73-bb95dc5c81b7
DTSTAMP:20260424T144428Z
SUMMARY:Kreuzwegandacht
DESCRIPTION:https://krumbach.bistum-augsburg-portal.de/kreuzwegandacht_id16
 77440
DTSTART;TZID=Europe/Berlin:20260320T170000
DURATION:PT30M
LOCATION:St. Michael
END:VEVENT
END:VCALENDAR
