BEGIN:VCALENDAR
VERSION:2.0
PRODID:-//Sabre//Sabre VObject 4.5.8//EN
CALSCALE:GREGORIAN
BEGIN:VEVENT
UID:sabre-vobject-ed7488ad-a13e-4ed0-89f4-63b6331fa6e3
DTSTAMP:20260423T004044Z
SUMMARY:Heilige Messe
DESCRIPTION:https://krumbach.bistum-augsburg-portal.de/heilige-messe_id1693
 230
DTSTART;TZID=Europe/Berlin:20260325T080000
DURATION:PT30M
LOCATION:St. Michael
END:VEVENT
END:VCALENDAR
