BEGIN:VCALENDAR
VERSION:2.0
PRODID:-//Sabre//Sabre VObject 4.5.8//EN
CALSCALE:GREGORIAN
BEGIN:VEVENT
UID:sabre-vobject-cf7f038c-3dec-4652-9439-cd9d8248a06c
DTSTAMP:20260423T041258Z
SUMMARY:Heilige Messe
DESCRIPTION:https://krumbach.bistum-augsburg-portal.de/heilige-messe_id1693
 231
DTSTART;TZID=Europe/Berlin:20260324T140000
DURATION:PT30M
LOCATION:St. Michael
END:VEVENT
END:VCALENDAR
