BEGIN:VCALENDAR
VERSION:2.0
PRODID:-//Sabre//Sabre VObject 4.5.8//EN
CALSCALE:GREGORIAN
BEGIN:VEVENT
UID:sabre-vobject-80a52a15-1eea-438c-b42b-21a17d9edcf4
DTSTAMP:20260422T225420Z
SUMMARY:Gottesdienst mit Möglichkeit zum Empfang des Sakramentes der Krank
 ensalbung
DESCRIPTION:https://krumbach.bistum-augsburg-portal.de/gottesdienst-mit-moe
 glichkeit-zum-empfang-des-sakramentes-der-krankensalbung_id1693238
DTSTART;TZID=Europe/Berlin:20260326T180000
DURATION:PT30M
LOCATION:St. Michael
END:VEVENT
END:VCALENDAR
