BEGIN:VCALENDAR
VERSION:2.0
PRODID:-//Sabre//Sabre VObject 4.5.8//EN
CALSCALE:GREGORIAN
BEGIN:VEVENT
UID:sabre-vobject-cb230c82-1e30-4679-af18-3dd89cc4b965
DTSTAMP:20260424T060353Z
SUMMARY:Taufe von Joseph Peter und Paul Friedrich Gulkin
DESCRIPTION:https://krumbach.bistum-augsburg-portal.de/taufe-von-joseph-pet
 er-und-paul-friedrich-gulkin_id1693250
DTSTART;TZID=Europe/Berlin:20260321T140000
DURATION:PT30M
LOCATION:St. Michael
END:VEVENT
END:VCALENDAR
