BEGIN:VCALENDAR
VERSION:2.0
PRODID:-//Sabre//Sabre VObject 4.5.8//EN
CALSCALE:GREGORIAN
BEGIN:VEVENT
UID:sabre-vobject-9173ed2b-e4dc-49f4-9a13-74eb426691fb
DTSTAMP:20260424T010831Z
SUMMARY:Beichtgelegenheit
DESCRIPTION:https://krumbach.bistum-augsburg-portal.de/beichtgelegenheit_id
 1693251
DTSTART;TZID=Europe/Berlin:20260321T171500
DURATION:PT30M
LOCATION:St. Michael
END:VEVENT
END:VCALENDAR
