BEGIN:VCALENDAR
VERSION:2.0
PRODID:-//Sabre//Sabre VObject 4.5.8//EN
CALSCALE:GREGORIAN
BEGIN:VEVENT
UID:sabre-vobject-d1c94b35-d52f-4c62-9b1e-a04564461d64
DTSTAMP:20260422T213356Z
SUMMARY:Ölbergandacht
DESCRIPTION:https://krumbach.bistum-augsburg-portal.de/oelbergandacht_id169
 3262
DTSTART;TZID=Europe/Berlin:20260327T170000
DURATION:PT30M
LOCATION:St. Michael
END:VEVENT
END:VCALENDAR
