BEGIN:VCALENDAR
VERSION:2.0
PRODID:-//Sabre//Sabre VObject 4.5.8//EN
CALSCALE:GREGORIAN
BEGIN:VEVENT
UID:sabre-vobject-e65b5110-6abf-493d-b7de-2f2e7c6f36d4
DTSTAMP:20260423T100722Z
SUMMARY:Pfarrgottesdienst für die Lebenden und Verstorbenen der PG - Heili
 ge Messe
DESCRIPTION:https://krumbach.bistum-augsburg-portal.de/pfarrgottesdienst-fu
 er-die-lebenden-und-verstorbenen-der-pg-heilige-messe_id1693321
DTSTART;TZID=Europe/Berlin:20260322T101500
DURATION:PT30M
LOCATION:St. Michael
END:VEVENT
END:VCALENDAR
