BEGIN:VCALENDAR
VERSION:2.0
PRODID:-//Sabre//Sabre VObject 4.5.8//EN
CALSCALE:GREGORIAN
BEGIN:VEVENT
UID:sabre-vobject-1206ab5f-5e76-47cf-9db0-1371b981a374
DTSTAMP:20260423T070457Z
SUMMARY:in Maria Hilf ökumenisches Friedensgebet mit dem ökumenischen Hos
 pizverein
DESCRIPTION:https://krumbach.bistum-augsburg-portal.de/in-maria-hilf-oekume
 nisches-friedensgebet-mit-dem-oekumenischen-hospizverein_id1693322
DTSTART;TZID=Europe/Berlin:20260322T190000
DURATION:PT30M
LOCATION:St. Michael
END:VEVENT
END:VCALENDAR
