BEGIN:VCALENDAR
VERSION:2.0
PRODID:-//Sabre//Sabre VObject 4.5.8//EN
CALSCALE:GREGORIAN
BEGIN:VEVENT
UID:sabre-vobject-1b213fdc-ad65-4079-9cbc-e6b594f797c3
DTSTAMP:20260423T081923Z
SUMMARY:Taufe von Moritz Nürnberger
DESCRIPTION:https://krumbach.bistum-augsburg-portal.de/taufe-von-moritz-nue
 rnberger_id1693326
DTSTART;TZID=Europe/Berlin:20260322T113000
DURATION:PT30M
LOCATION:St. Michael
END:VEVENT
END:VCALENDAR
