BEGIN:VCALENDAR
VERSION:2.0
PRODID:-//Sabre//Sabre VObject 4.5.8//EN
CALSCALE:GREGORIAN
BEGIN:VEVENT
UID:sabre-vobject-cc98c5e1-333e-45e8-80a3-2efdd8728e0d
DTSTAMP:20260423T060029Z
SUMMARY:Heilige Messe
DESCRIPTION:https://krumbach.bistum-augsburg-portal.de/heilige-messe_id1693
 327
DTSTART;TZID=Europe/Berlin:20260323T170000
DURATION:PT30M
LOCATION:Herz-Jesu-Kapelle\, Schloßberg 9\, 86381  Hohenraunau
END:VEVENT
END:VCALENDAR
