BEGIN:VCALENDAR
VERSION:2.0
PRODID:-//Sabre//Sabre VObject 4.5.8//EN
CALSCALE:GREGORIAN
BEGIN:VEVENT
UID:sabre-vobject-a56cc2fa-f421-4476-8eed-be2edf5706a9
DTSTAMP:20260423T170815Z
SUMMARY:Gottesdienst mit allen ehemaligen Ministranten - Vorabendmesse
DESCRIPTION:https://krumbach.bistum-augsburg-portal.de/gottesdienst-mit-all
 en-ehemaligen-ministranten-vorabendmesse_id1693329
DTSTART;TZID=Europe/Berlin:20260321T180000
DURATION:PT30M
LOCATION:St. Michael
END:VEVENT
END:VCALENDAR
