BEGIN:VCALENDAR
VERSION:2.0
PRODID:-//Sabre//Sabre VObject 4.5.8//EN
CALSCALE:GREGORIAN
BEGIN:VEVENT
UID:sabre-vobject-ab346625-eace-4733-87d9-5817f147865b
DTSTAMP:20260423T151652Z
SUMMARY:Treffen der ehemaligen Minstranten im Mühlenstüble
DESCRIPTION:https://krumbach.bistum-augsburg-portal.de/treffen-der-ehemalig
 en-minstranten-im-muehlenstueble_id1693330
DTSTART;TZID=Europe/Berlin:20260321T190000
DURATION:PT30M
LOCATION:St. Michael
END:VEVENT
END:VCALENDAR
