BEGIN:VCALENDAR
VERSION:2.0
PRODID:-//Sabre//Sabre VObject 4.5.8//EN
CALSCALE:GREGORIAN
BEGIN:VEVENT
UID:sabre-vobject-d5f32c96-3831-4cff-803e-32923239c43a
DTSTAMP:20260423T132241Z
SUMMARY:Heilige Messe
DESCRIPTION:https://krumbach.bistum-augsburg-portal.de/heilige-messe_id1693
 331
DTSTART;TZID=Europe/Berlin:20260322T073000
DURATION:PT30M
LOCATION:St. Michael
END:VEVENT
END:VCALENDAR
