BEGIN:VCALENDAR
VERSION:2.0
PRODID:-//Sabre//Sabre VObject 4.5.8//EN
CALSCALE:GREGORIAN
BEGIN:VEVENT
UID:sabre-vobject-b0f05040-208d-4159-a339-d7a034bb53b5
DTSTAMP:20260422T200640Z
SUMMARY:Beichtgelegenheit
DESCRIPTION:https://krumbach.bistum-augsburg-portal.de/beichtgelegenheit_id
 1694916
DTSTART;TZID=Europe/Berlin:20260328T163000
DURATION:PT30M
LOCATION:St. Michael
END:VEVENT
END:VCALENDAR
