BEGIN:VCALENDAR
VERSION:2.0
PRODID:-//Sabre//Sabre VObject 4.5.8//EN
CALSCALE:GREGORIAN
BEGIN:VEVENT
UID:sabre-vobject-0adc1de8-42b6-4ce8-bff0-da07ace92bb4
DTSTAMP:20260422T174018Z
SUMMARY:Rosenkranz für die Verstorbenen der PG
DESCRIPTION:https://krumbach.bistum-augsburg-portal.de/rosenkranz-fuer-die-
 verstorbenen-der-pg_id1694917
DTSTART;TZID=Europe/Berlin:20260328T172500
DURATION:PT30M
LOCATION:St. Michael
END:VEVENT
END:VCALENDAR
