BEGIN:VCALENDAR
VERSION:2.0
PRODID:-//Sabre//Sabre VObject 4.5.8//EN
CALSCALE:GREGORIAN
BEGIN:VEVENT
UID:sabre-vobject-1b697092-71fe-4425-92a4-8d4f0951f4f7
DTSTAMP:20260422T141909Z
SUMMARY:Vorabendmesse
DESCRIPTION:https://krumbach.bistum-augsburg-portal.de/vorabendmesse_id1694
 926
DTSTART;TZID=Europe/Berlin:20260328T180000
DURATION:PT30M
LOCATION:St. Michael
END:VEVENT
END:VCALENDAR
