BEGIN:VCALENDAR
VERSION:2.0
PRODID:-//Sabre//Sabre VObject 4.5.8//EN
CALSCALE:GREGORIAN
BEGIN:VEVENT
UID:sabre-vobject-137f82e6-bf82-4a60-b93b-59078ccba38e
DTSTAMP:20260422T125533Z
SUMMARY:Heilige Messe
DESCRIPTION:https://krumbach.bistum-augsburg-portal.de/heilige-messe_id1694
 927
DTSTART;TZID=Europe/Berlin:20260329T073000
DURATION:PT30M
LOCATION:St. Michael
END:VEVENT
END:VCALENDAR
