BEGIN:VCALENDAR
VERSION:2.0
PRODID:-//Sabre//Sabre VObject 4.5.8//EN
CALSCALE:GREGORIAN
BEGIN:VEVENT
UID:sabre-vobject-52c6abd6-c1a6-4dd9-94dc-b7b76d1e85c4
DTSTAMP:20260422T094113Z
SUMMARY:Segnung der Palmzweige\, anschl. Prozession zur Pfarrkirche (bei sc
 hlechter Witterung in der Pfarrkirche)
DESCRIPTION:https://krumbach.bistum-augsburg-portal.de/segnung-der-palmzwei
 ge-anschl-prozession-zur-pfarrkirche-bei-schlechter-witterung-in-der-pfarr
 kirche_id1695020
DTSTART;TZID=Europe/Berlin:20260329T100000
DURATION:PT30M
LOCATION:St. Michael
END:VEVENT
END:VCALENDAR
