BEGIN:VCALENDAR
VERSION:2.0
PRODID:-//Sabre//Sabre VObject 4.5.8//EN
CALSCALE:GREGORIAN
BEGIN:VEVENT
UID:sabre-vobject-1ec5b96c-b8e4-4874-8b42-3023af5a9575
DTSTAMP:20260422T011932Z
SUMMARY:Festgottesdienst - Heilige Messe
DESCRIPTION:https://krumbach.bistum-augsburg-portal.de/festgottesdienst-hei
 lige-messe_id1695021
DTSTART;TZID=Europe/Berlin:20260329T101500
DURATION:PT30M
LOCATION:St. Michael
END:VEVENT
END:VCALENDAR
