BEGIN:VCALENDAR
VERSION:2.0
PRODID:-//Sabre//Sabre VObject 4.5.8//EN
CALSCALE:GREGORIAN
BEGIN:VEVENT
UID:sabre-vobject-7ac8b113-7270-4c5e-93fd-202a6abb8bd3
DTSTAMP:20260421T093214Z
SUMMARY:in Maria Hilf ökumenisches Friedensgebet mit Gemeindereferentin Ma
 rgarete Wachter
DESCRIPTION:https://krumbach.bistum-augsburg-portal.de/in-maria-hilf-oekume
 nisches-friedensgebet-mit-gemeindereferentin-margarete-wachter_id1695022
DTSTART;TZID=Europe/Berlin:20260329T190000
DURATION:PT30M
LOCATION:St. Michael
END:VEVENT
END:VCALENDAR
