BEGIN:VCALENDAR
VERSION:2.0
PRODID:-//Sabre//Sabre VObject 4.5.8//EN
CALSCALE:GREGORIAN
BEGIN:VEVENT
UID:sabre-vobject-021fce05-d78a-4580-9f21-e487905a0cc5
DTSTAMP:20260420T161413Z
SUMMARY:Rosenkranz für die Verstorbenen der PG
DESCRIPTION:https://krumbach.bistum-augsburg-portal.de/rosenkranz-fuer-die-
 verstorbenen-der-pg_id1736400
DTSTART;TZID=Europe/Berlin:20260425T172500
DURATION:PT30M
LOCATION:St. Michael
END:VEVENT
END:VCALENDAR
